Package: UNDO Version: 1.46.0 Command: /Library/Frameworks/R.framework/Resources/bin/R CMD build --keep-empty-dirs --no-resave-data UNDO StartedAt: 2024-10-17 11:11:39 -0400 (Thu, 17 Oct 2024) EndedAt: 2024-10-17 11:11:54 -0400 (Thu, 17 Oct 2024) EllapsedTime: 15.3 seconds RetCode: 0 Status: OK PackageFile: UNDO_1.46.0.tar.gz PackageFileSize: 2.854 MiB