Package: UNDO Version: 1.46.0 Maintainer: Niya Wang MaintainerEmail: wangny at vt.edu git_url: https://git.bioconductor.org/packages/UNDO git_branch: RELEASE_3_19 git_last_commit: 05ce7a8 git_last_commit_date: 2024-04-30 10:35:39 -0400 (Tue, 30 Apr 2024)