Package: UMI4Cats Version: 1.14.0 Command: chmod a+r UMI4Cats -R && E:\biocbuild\bbs-3.19-bioc\R\bin\R.exe CMD build --keep-empty-dirs --no-resave-data UMI4Cats StartedAt: 2024-10-16 22:27:52 -0400 (Wed, 16 Oct 2024) EndedAt: 2024-10-16 22:27:56 -0400 (Wed, 16 Oct 2024) EllapsedTime: 4.4 seconds RetCode: 1 Status: ERROR PackageFile: None PackageFileSize: NA