Package: UMI4Cats Version: 1.14.0 Command: /Library/Frameworks/R.framework/Resources/bin/R CMD build --keep-empty-dirs --no-resave-data UMI4Cats StartedAt: 2024-06-09 18:29:51 -0400 (Sun, 09 Jun 2024) EndedAt: 2024-06-09 18:31:49 -0400 (Sun, 09 Jun 2024) EllapsedTime: 118.5 seconds RetCode: 0 Status: OK PackageFile: UMI4Cats_1.14.0.tar.gz PackageFileSize: 3.756 MiB