Package: UMI4Cats Version: 1.14.0 Command: /home/biocbuild/R/R-beta-2024-04-15_r86425/bin/R CMD build --keep-empty-dirs --no-resave-data UMI4Cats StartedAt: 2024-05-09 04:16:12 -0000 (Thu, 09 May 2024) EndedAt: 2024-05-09 04:18:46 -0000 (Thu, 09 May 2024) EllapsedTime: 154.2 seconds RetCode: 0 Status: OK PackageFile: UMI4Cats_1.14.0.tar.gz PackageFileSize: 3.392 MiB