Package: UCell Version: 2.8.0 Command: chmod a+r UCell -R && E:\biocbuild\bbs-3.19-bioc\R\bin\R.exe CMD build --keep-empty-dirs --no-resave-data UCell StartedAt: 2024-10-16 22:27:38 -0400 (Wed, 16 Oct 2024) EndedAt: 2024-10-16 22:34:40 -0400 (Wed, 16 Oct 2024) EllapsedTime: 421.3 seconds RetCode: 0 Status: OK PackageFile: UCell_2.8.0.tar.gz PackageFileSize: 1.362 MiB