Package: UCell Version: 2.8.0 Command: /home/biocbuild/bbs-3.19-bioc/R/bin/R CMD INSTALL UCell StartedAt: 2024-10-16 16:02:59 -0400 (Wed, 16 Oct 2024) EndedAt: 2024-10-16 16:03:21 -0400 (Wed, 16 Oct 2024) EllapsedTime: 22.1 seconds RetCode: 0 Status: OK