Package: UCell Version: 2.8.0 Command: /home/biocbuild/bbs-3.19-bioc/R/bin/R CMD build --keep-empty-dirs --no-resave-data UCell StartedAt: 2024-10-16 21:16:50 -0400 (Wed, 16 Oct 2024) EndedAt: 2024-10-16 21:21:39 -0400 (Wed, 16 Oct 2024) EllapsedTime: 288.5 seconds RetCode: 0 Status: OK PackageFile: UCell_2.8.0.tar.gz PackageFileSize: 1.619 MiB