Package: UCell Version: 2.8.0 Maintainer: Massimo Andreatta MaintainerEmail: massimo.andreatta at unil.ch git_url: https://git.bioconductor.org/packages/UCell git_branch: RELEASE_3_19 git_last_commit: 36118e6 git_last_commit_date: 2024-04-30 11:40:43 -0400 (Tue, 30 Apr 2024)