Package: UCSC.utils Version: 1.0.0 Command: rm -rf UCSC.utils.buildbin-libdir && mkdir UCSC.utils.buildbin-libdir && E:\biocbuild\bbs-3.19-bioc\R\bin\R.exe CMD INSTALL --build --library=UCSC.utils.buildbin-libdir UCSC.utils_1.0.0.tar.gz StartedAt: 2024-10-17 08:49:40 -0400 (Thu, 17 Oct 2024) EndedAt: 2024-10-17 08:49:56 -0400 (Thu, 17 Oct 2024) EllapsedTime: 16.1 seconds RetCode: 0 Status: OK PackageFile: UCSC.utils_1.0.0.zip PackageFileSize: 286.5 KiB