Package: UCSC.utils Version: 1.0.0 Command: /home/biocbuild/bbs-3.19-bioc/R/bin/R CMD build --keep-empty-dirs --no-resave-data UCSC.utils StartedAt: 2024-10-16 21:16:56 -0400 (Wed, 16 Oct 2024) EndedAt: 2024-10-16 21:17:09 -0400 (Wed, 16 Oct 2024) EllapsedTime: 13.0 seconds RetCode: 0 Status: OK PackageFile: UCSC.utils_1.0.0.tar.gz PackageFileSize: 230.6 KiB