Package: UCSC.utils Version: 1.0.0 Maintainer: Hervé Pagès MaintainerEmail: hpages.on.github at gmail.com git_url: https://git.bioconductor.org/packages/UCSC.utils git_branch: RELEASE_3_19 git_last_commit: dc5a0a8 git_last_commit_date: 2024-04-30 11:55:38 -0400 (Tue, 30 Apr 2024)