Package: TurboNorm Version: 1.52.0 Command: E:\biocbuild\bbs-3.19-bioc\R\bin\R.exe CMD INSTALL TurboNorm StartedAt: 2024-10-16 16:06:32 -0400 (Wed, 16 Oct 2024) EndedAt: 2024-10-16 16:06:42 -0400 (Wed, 16 Oct 2024) EllapsedTime: 10.2 seconds RetCode: 0 Status: OK