Package: TurboNorm Version: 1.52.0 Command: F:\biocbuild\bbs-3.19-bioc\R\bin\R.exe CMD check --no-multiarch --install=check:TurboNorm.install-out.txt --library=F:\biocbuild\bbs-3.19-bioc\R\library --no-vignettes --timings TurboNorm_1.52.0.tar.gz StartedAt: 2024-06-27 07:13:03 -0400 (Thu, 27 Jun 2024) EndedAt: 2024-06-27 07:14:28 -0400 (Thu, 27 Jun 2024) EllapsedTime: 85.5 seconds RetCode: 0 Status: OK CheckDir: TurboNorm.Rcheck Warnings: 0