Package: TurboNorm Version: 1.52.0 Command: chmod a+r TurboNorm -R && F:\biocbuild\bbs-3.19-bioc\R\bin\R.exe CMD build --keep-empty-dirs --no-resave-data TurboNorm StartedAt: 2024-06-26 22:28:49 -0400 (Wed, 26 Jun 2024) EndedAt: 2024-06-26 22:29:13 -0400 (Wed, 26 Jun 2024) EllapsedTime: 23.9 seconds RetCode: 0 Status: OK PackageFile: TurboNorm_1.52.0.tar.gz PackageFileSize: 2.023 MiB