Package: Trendy Version: 1.26.0 Command: /home/biocbuild/bbs-3.19-bioc/R/bin/R CMD check --install=check:Trendy.install-out.txt --library=/home/biocbuild/bbs-3.19-bioc/R/site-library --timings Trendy_1.26.0.tar.gz StartedAt: 2024-10-17 06:04:08 -0400 (Thu, 17 Oct 2024) EndedAt: 2024-10-17 06:07:31 -0400 (Thu, 17 Oct 2024) EllapsedTime: 202.4 seconds RetCode: 0 Status: OK CheckDir: Trendy.Rcheck Warnings: 0