Package: Trendy Version: 1.26.0 Command: /Library/Frameworks/R.framework/Resources/bin/R CMD check --install=check:Trendy.install-out.txt --library=/Library/Frameworks/R.framework/Resources/library --no-vignettes --timings Trendy_1.26.0.tar.gz StartedAt: 2024-10-18 15:49:10 -0400 (Fri, 18 Oct 2024) EndedAt: 2024-10-18 15:52:50 -0400 (Fri, 18 Oct 2024) EllapsedTime: 220.2 seconds RetCode: 0 Status: OK CheckDir: Trendy.Rcheck Warnings: 0