Package: Trendy Version: 1.26.0 Maintainer: Rhonda Bacher MaintainerEmail: rbacher at ufl.edu git_url: https://git.bioconductor.org/packages/Trendy git_branch: RELEASE_3_19 git_last_commit: bb2ec48 git_last_commit_date: 2024-04-30 11:03:35 -0400 (Tue, 30 Apr 2024)