Package: TreeSummarizedExperiment Version: 2.12.0 Command: rm -rf TreeSummarizedExperiment.buildbin-libdir && mkdir TreeSummarizedExperiment.buildbin-libdir && E:\biocbuild\bbs-3.19-bioc\R\bin\R.exe CMD INSTALL --build --library=TreeSummarizedExperiment.buildbin-libdir TreeSummarizedExperiment_2.12.0.tar.gz StartedAt: 2024-10-17 08:48:38 -0400 (Thu, 17 Oct 2024) EndedAt: 2024-10-17 08:50:40 -0400 (Thu, 17 Oct 2024) EllapsedTime: 121.6 seconds RetCode: 0 Status: OK PackageFile: TreeSummarizedExperiment_2.12.0.zip PackageFileSize: 1.718 MiB