Package: TreeSummarizedExperiment Version: 2.12.0 Command: /home/biocbuild/bbs-3.19-bioc/R/bin/R CMD build --keep-empty-dirs --no-resave-data TreeSummarizedExperiment StartedAt: 2024-10-16 21:14:14 -0400 (Wed, 16 Oct 2024) EndedAt: 2024-10-16 21:15:13 -0400 (Wed, 16 Oct 2024) EllapsedTime: 59.1 seconds RetCode: 0 Status: OK PackageFile: TreeSummarizedExperiment_2.12.0.tar.gz PackageFileSize: 1.083 MiB