Package: TreeSummarizedExperiment Version: 2.12.0 Command: /Library/Frameworks/R.framework/Resources/bin/R CMD build --keep-empty-dirs --no-resave-data TreeSummarizedExperiment StartedAt: 2024-10-17 00:04:53 -0400 (Thu, 17 Oct 2024) EndedAt: 2024-10-17 00:07:24 -0400 (Thu, 17 Oct 2024) EllapsedTime: 151.1 seconds RetCode: 0 Status: OK PackageFile: TreeSummarizedExperiment_2.12.0.tar.gz PackageFileSize: 1.104 MiB