Package: TreeSummarizedExperiment Version: 2.12.0 Command: /Library/Frameworks/R.framework/Resources/bin/R CMD INSTALL TreeSummarizedExperiment StartedAt: 2024-06-09 15:14:34 -0400 (Sun, 09 Jun 2024) EndedAt: 2024-06-09 15:15:16 -0400 (Sun, 09 Jun 2024) EllapsedTime: 42.1 seconds RetCode: 0 Status: OK