Package: TreeSummarizedExperiment Version: 2.12.0 Command: /Library/Frameworks/R.framework/Resources/bin/R CMD INSTALL TreeSummarizedExperiment StartedAt: 2024-10-16 16:55:50 -0400 (Wed, 16 Oct 2024) EndedAt: 2024-10-16 16:56:28 -0400 (Wed, 16 Oct 2024) EllapsedTime: 38.5 seconds RetCode: 0 Status: OK