Package: TreeSummarizedExperiment Version: 2.12.0 Command: /Library/Frameworks/R.framework/Resources/bin/R CMD check --install=check:TreeSummarizedExperiment.install-out.txt --library=/Library/Frameworks/R.framework/Resources/library --no-vignettes --timings TreeSummarizedExperiment_2.12.0.tar.gz StartedAt: 2024-10-18 15:48:23 -0400 (Fri, 18 Oct 2024) EndedAt: 2024-10-18 15:55:43 -0400 (Fri, 18 Oct 2024) EllapsedTime: 440.4 seconds RetCode: 0 Status: OK CheckDir: TreeSummarizedExperiment.Rcheck Warnings: 0