Package: TreeSummarizedExperiment Version: 2.12.0 Command: /Library/Frameworks/R.framework/Resources/bin/R CMD build --keep-empty-dirs --no-resave-data TreeSummarizedExperiment StartedAt: 2024-10-17 10:59:57 -0400 (Thu, 17 Oct 2024) EndedAt: 2024-10-17 11:01:14 -0400 (Thu, 17 Oct 2024) EllapsedTime: 77.2 seconds RetCode: 0 Status: OK PackageFile: TreeSummarizedExperiment_2.12.0.tar.gz PackageFileSize: 1.104 MiB