Package: TreeAndLeaf Version: 1.16.0 Command: /home/biocbuild/bbs-3.19-bioc/R/bin/R CMD build --keep-empty-dirs --no-resave-data TreeAndLeaf StartedAt: 2024-10-16 21:14:02 -0400 (Wed, 16 Oct 2024) EndedAt: 2024-10-16 21:14:13 -0400 (Wed, 16 Oct 2024) EllapsedTime: 11.0 seconds RetCode: 0 Status: OK PackageFile: TreeAndLeaf_1.16.0.tar.gz PackageFileSize: 5.616 MiB