Package: TreeAndLeaf Version: 1.16.0 Command: rm -rf TreeAndLeaf.buildbin-libdir && mkdir TreeAndLeaf.buildbin-libdir && /Users/biocbuild/BBS/utils/build-universal.sh TreeAndLeaf_1.16.0.tar.gz /Library/Frameworks/R.framework/Resources/bin/R TreeAndLeaf.buildbin-libdir StartedAt: 2024-10-17 17:23:09 -0400 (Thu, 17 Oct 2024) EndedAt: 2024-10-17 17:23:21 -0400 (Thu, 17 Oct 2024) EllapsedTime: 12.1 seconds RetCode: 0 Status: OK PackageFile: TreeAndLeaf_1.16.0.tgz PackageFileSize: 3.161 MiB