Package: TreeAndLeaf Version: 1.16.0 Command: /Library/Frameworks/R.framework/Resources/bin/R CMD build --keep-empty-dirs --no-resave-data TreeAndLeaf StartedAt: 2024-06-10 06:09:30 -0400 (Mon, 10 Jun 2024) EndedAt: 2024-06-10 06:09:52 -0400 (Mon, 10 Jun 2024) EllapsedTime: 21.9 seconds RetCode: 0 Status: OK PackageFile: TreeAndLeaf_1.16.0.tar.gz PackageFileSize: 5.623 MiB