Package: TreeAndLeaf Version: 1.16.0 Command: rm -rf TreeAndLeaf.buildbin-libdir && mkdir TreeAndLeaf.buildbin-libdir && /Users/biocbuild/BBS/utils/build-universal.sh TreeAndLeaf_1.16.0.tar.gz /Library/Frameworks/R.framework/Resources/bin/R TreeAndLeaf.buildbin-libdir StartedAt: 2024-06-11 13:36:33 -0400 (Tue, 11 Jun 2024) EndedAt: 2024-06-11 13:36:43 -0400 (Tue, 11 Jun 2024) EllapsedTime: 10.2 seconds RetCode: 0 Status: OK PackageFile: TreeAndLeaf_1.16.0.tgz PackageFileSize: 3.162 MiB