Package: TreeAndLeaf Version: 1.16.0 Command: /Library/Frameworks/R.framework/Resources/bin/R CMD INSTALL TreeAndLeaf StartedAt: 2024-10-16 16:58:34 -0400 (Wed, 16 Oct 2024) EndedAt: 2024-10-16 16:58:39 -0400 (Wed, 16 Oct 2024) EllapsedTime: 5.3 seconds RetCode: 0 Status: OK