Package: TreeAndLeaf Version: 1.16.0 Maintainer: Milena A. Cardoso MaintainerEmail: milenandreuzo at gmail.com git_url: https://git.bioconductor.org/packages/TreeAndLeaf git_branch: RELEASE_3_19 git_last_commit: 8dc2d27 git_last_commit_date: 2024-04-30 11:20:47 -0400 (Tue, 30 Apr 2024)