Package: TransView Version: 1.48.0 Command: chmod a+r TransView -R && E:\biocbuild\bbs-3.19-bioc\R\bin\R.exe CMD build --keep-empty-dirs --no-resave-data TransView StartedAt: 2024-10-16 22:24:24 -0400 (Wed, 16 Oct 2024) EndedAt: 2024-10-16 22:25:23 -0400 (Wed, 16 Oct 2024) EllapsedTime: 58.9 seconds RetCode: 0 Status: OK PackageFile: TransView_1.48.0.tar.gz PackageFileSize: 1.781 MiB