Package: TransView Version: 1.48.0 Command: rm -rf TransView.buildbin-libdir && mkdir TransView.buildbin-libdir && E:\biocbuild\bbs-3.19-bioc\R\bin\R.exe CMD INSTALL --build --library=TransView.buildbin-libdir TransView_1.48.0.tar.gz StartedAt: 2024-10-17 08:48:24 -0400 (Thu, 17 Oct 2024) EndedAt: 2024-10-17 08:49:21 -0400 (Thu, 17 Oct 2024) EllapsedTime: 57.0 seconds RetCode: 0 Status: OK PackageFile: TransView_1.48.0.zip PackageFileSize: 6.075 MiB