Package: TransView Version: 1.48.0 Command: chmod a+r TransView -R && F:\biocbuild\bbs-3.19-bioc\R\bin\R.exe CMD build --keep-empty-dirs --no-resave-data TransView StartedAt: 2024-06-26 22:26:48 -0400 (Wed, 26 Jun 2024) EndedAt: 2024-06-26 22:27:53 -0400 (Wed, 26 Jun 2024) EllapsedTime: 64.1 seconds RetCode: 0 Status: OK PackageFile: TransView_1.48.0.tar.gz PackageFileSize: 1.784 MiB