Package: TransView Version: 1.48.0 Command: /Library/Frameworks/R.framework/Resources/bin/R CMD INSTALL TransView StartedAt: 2024-10-16 15:25:42 -0400 (Wed, 16 Oct 2024) EndedAt: 2024-10-16 15:26:24 -0400 (Wed, 16 Oct 2024) EllapsedTime: 42.0 seconds RetCode: 0 Status: OK