Package: TransView Version: 1.48.0 Command: /home/biocbuild/R/R-beta-2024-04-15_r86425/bin/R CMD build --keep-empty-dirs --no-resave-data TransView StartedAt: 2024-05-09 04:11:34 -0000 (Thu, 09 May 2024) EndedAt: 2024-05-09 04:12:05 -0000 (Thu, 09 May 2024) EllapsedTime: 31.0 seconds RetCode: 0 Status: OK PackageFile: TransView_1.48.0.tar.gz PackageFileSize: 1.867 MiB