Package: TransView Version: 1.48.0 Command: /Library/Frameworks/R.framework/Resources/bin/R CMD build --keep-empty-dirs --no-resave-data TransView StartedAt: 2024-10-17 10:57:08 -0400 (Thu, 17 Oct 2024) EndedAt: 2024-10-17 10:57:49 -0400 (Thu, 17 Oct 2024) EllapsedTime: 41.0 seconds RetCode: 0 Status: OK PackageFile: TransView_1.48.0.tar.gz PackageFileSize: 1.819 MiB