Package: TransView Version: 1.48.0 Command: rm -rf TransView.buildbin-libdir && mkdir TransView.buildbin-libdir && /Users/biocbuild/BBS/utils/build-universal.sh TransView_1.48.0.tar.gz /Library/Frameworks/R.framework/Resources/bin/R TransView.buildbin-libdir StartedAt: 2024-10-15 20:41:36 -0400 (Tue, 15 Oct 2024) EndedAt: 2024-10-15 20:42:04 -0400 (Tue, 15 Oct 2024) EllapsedTime: 28.4 seconds RetCode: 0 Status: OK PackageFile: TransView_1.48.0.tgz PackageFileSize: 2.032 MiB