Package: TrajectoryUtils Version: 1.12.0 Command: chmod a+r TrajectoryUtils -R && E:\biocbuild\bbs-3.19-bioc\R\bin\R.exe CMD build --keep-empty-dirs --no-resave-data TrajectoryUtils StartedAt: 2024-10-16 22:23:27 -0400 (Wed, 16 Oct 2024) EndedAt: 2024-10-16 22:24:11 -0400 (Wed, 16 Oct 2024) EllapsedTime: 44.2 seconds RetCode: 0 Status: OK PackageFile: TrajectoryUtils_1.12.0.tar.gz PackageFileSize: 322.2 KiB