Package: TrajectoryUtils Version: 1.12.0 Command: rm -rf TrajectoryUtils.buildbin-libdir && mkdir TrajectoryUtils.buildbin-libdir && E:\biocbuild\bbs-3.19-bioc\R\bin\R.exe CMD INSTALL --build --library=TrajectoryUtils.buildbin-libdir TrajectoryUtils_1.12.0.tar.gz StartedAt: 2024-10-17 08:48:08 -0400 (Thu, 17 Oct 2024) EndedAt: 2024-10-17 08:49:01 -0400 (Thu, 17 Oct 2024) EllapsedTime: 53.3 seconds RetCode: 0 Status: OK PackageFile: TrajectoryUtils_1.12.0.zip PackageFileSize: 512.4 KiB