Package: TrajectoryUtils Version: 1.12.0 Command: rm -rf TrajectoryUtils.buildbin-libdir && mkdir TrajectoryUtils.buildbin-libdir && F:\biocbuild\bbs-3.19-bioc\R\bin\R.exe CMD INSTALL --build --library=TrajectoryUtils.buildbin-libdir TrajectoryUtils_1.12.0.tar.gz StartedAt: 2024-06-27 09:03:42 -0400 (Thu, 27 Jun 2024) EndedAt: 2024-06-27 09:04:24 -0400 (Thu, 27 Jun 2024) EllapsedTime: 41.8 seconds RetCode: 0 Status: OK PackageFile: TrajectoryUtils_1.12.0.zip PackageFileSize: 512.4 KiB