Package: TrajectoryUtils Version: 1.12.0 Command: /home/biocbuild/bbs-3.19-bioc/R/bin/R CMD build --keep-empty-dirs --no-resave-data TrajectoryUtils StartedAt: 2024-10-16 21:13:07 -0400 (Wed, 16 Oct 2024) EndedAt: 2024-10-16 21:13:40 -0400 (Wed, 16 Oct 2024) EllapsedTime: 33.1 seconds RetCode: 0 Status: OK PackageFile: TrajectoryUtils_1.12.0.tar.gz PackageFileSize: 336.6 KiB