Package: TrajectoryUtils Version: 1.12.0 Command: /home/biocbuild/R/R-beta-2024-04-15_r86425/bin/R CMD build --keep-empty-dirs --no-resave-data TrajectoryUtils StartedAt: 2024-05-09 04:10:42 -0000 (Thu, 09 May 2024) EndedAt: 2024-05-09 04:11:26 -0000 (Thu, 09 May 2024) EllapsedTime: 44.1 seconds RetCode: 0 Status: OK PackageFile: TrajectoryUtils_1.12.0.tar.gz PackageFileSize: 394 KiB