Package: TrajectoryUtils Version: 1.12.0 Command: /Library/Frameworks/R.framework/Resources/bin/R CMD check --install=check:TrajectoryUtils.install-out.txt --library=/Library/Frameworks/R.framework/Resources/library --no-vignettes --timings TrajectoryUtils_1.12.0.tar.gz StartedAt: 2024-10-18 15:33:25 -0400 (Fri, 18 Oct 2024) EndedAt: 2024-10-18 15:37:03 -0400 (Fri, 18 Oct 2024) EllapsedTime: 217.7 seconds RetCode: 0 Status: OK CheckDir: TrajectoryUtils.Rcheck Warnings: 0