Package: TrajectoryUtils Version: 1.12.0 Command: rm -rf TrajectoryUtils.buildbin-libdir && mkdir TrajectoryUtils.buildbin-libdir && /Users/biocbuild/BBS/utils/build-universal.sh TrajectoryUtils_1.12.0.tar.gz /Library/Frameworks/R.framework/Resources/bin/R TrajectoryUtils.buildbin-libdir StartedAt: 2024-10-15 20:40:47 -0400 (Tue, 15 Oct 2024) EndedAt: 2024-10-15 20:41:21 -0400 (Tue, 15 Oct 2024) EllapsedTime: 34.0 seconds RetCode: 0 Status: OK PackageFile: TrajectoryUtils_1.12.0.tgz PackageFileSize: 528.6 KiB