Package: TrajectoryGeometry Version: 1.12.1 Command: E:\biocbuild\bbs-3.19-bioc\R\bin\R.exe CMD INSTALL TrajectoryGeometry StartedAt: 2024-10-16 16:39:17 -0400 (Wed, 16 Oct 2024) EndedAt: 2024-10-16 16:40:02 -0400 (Wed, 16 Oct 2024) EllapsedTime: 44.8 seconds RetCode: 0 Status: OK