Package: TrajectoryGeometry Version: 1.12.1 Command: chmod a+r TrajectoryGeometry -R && E:\biocbuild\bbs-3.19-bioc\R\bin\R.exe CMD build --keep-empty-dirs --no-resave-data TrajectoryGeometry StartedAt: 2024-10-16 22:23:20 -0400 (Wed, 16 Oct 2024) EndedAt: 2024-10-16 22:28:51 -0400 (Wed, 16 Oct 2024) EllapsedTime: 330.3 seconds RetCode: 0 Status: OK PackageFile: TrajectoryGeometry_1.12.1.tar.gz PackageFileSize: 1.758 MiB