Package: TrajectoryGeometry Version: 1.12.0 Command: chmod a+r TrajectoryGeometry -R && F:\biocbuild\bbs-3.19-bioc\R\bin\R.exe CMD build --keep-empty-dirs --no-resave-data TrajectoryGeometry StartedAt: 2024-06-26 22:25:16 -0400 (Wed, 26 Jun 2024) EndedAt: 2024-06-26 22:30:52 -0400 (Wed, 26 Jun 2024) EllapsedTime: 335.6 seconds RetCode: 0 Status: OK PackageFile: TrajectoryGeometry_1.12.0.tar.gz PackageFileSize: 1.758 MiB