Package: TrajectoryGeometry Version: 1.12.1 Command: /home/biocbuild/bbs-3.19-bioc/R/bin/R CMD INSTALL TrajectoryGeometry StartedAt: 2024-10-16 16:17:44 -0400 (Wed, 16 Oct 2024) EndedAt: 2024-10-16 16:17:49 -0400 (Wed, 16 Oct 2024) EllapsedTime: 4.6 seconds RetCode: 0 Status: OK