Package: TrajectoryGeometry Version: 1.12.1 Command: /home/biocbuild/bbs-3.19-bioc/R/bin/R CMD build --keep-empty-dirs --no-resave-data TrajectoryGeometry StartedAt: 2024-10-16 21:13:01 -0400 (Wed, 16 Oct 2024) EndedAt: 2024-10-16 21:17:14 -0400 (Wed, 16 Oct 2024) EllapsedTime: 253.6 seconds RetCode: 0 Status: OK PackageFile: TrajectoryGeometry_1.12.1.tar.gz PackageFileSize: 1.803 MiB